BEGIN:VCALENDAR
VERSION:2.0
PRODID:icalendar-ruby
CALSCALE:GREGORIAN
METHOD:PUBLISH
BEGIN:VEVENT
DTSTAMP:20260421T083025Z
UID:cea02ccc-a4a5-43f1-a648-4cee8b1761b7
DTSTART:20231022T120000
DTEND:20231022T190000
DESCRIPTION:<p><span>Some Sundays in association with De Grendel Wines are 
 proud to present: Bok van Blerk\, Demi-Lee Moore\, Koos Kombuis and more\,
  live at De Grendel Estate in Durbanville.</span></p><p><br></p><p><span>L
 ook forward to some of SA's best live music paired to perfection with the 
 De Grendel Wines tent\, fresh craft beer by Newlands Spring\, gin cocktail
 s and delicious food.</span></p><p><br></p><p><span>Schedule:</span></p><p
 ><span>12:00 - Gates Open</span></p><p><span>13:00 - Opening Acts TBC</spa
 n></p><p><span>15:00 - Koos Kombuis</span></p><p><span>16:00 - Demi-Lee Mo
 ore</span></p><p><span>17:00 - Bok van Blerk</span></p><p><span>19:00 - Ga
 tes Close</span></p><p><br></p><p><span>NOTE - All ‘General Admission’
  seating is not reserved\, so arrive on time to claim your pozzie in the s
 hade! Remember to bring your own picnic blanket or chair. Snacks will be w
 elcomed this year however NO cooler boxes will be permitted. Also no Gazeb
 os will be allowed. No entrance before 12:00.</span></p><p><br></p><p><spa
 n>All ages are welcome and entrance is free for children younger than 8 ye
 ars. Discretion advised for some of the artists.</span></p><p><br></p><p><
 span>Right of admission reserved.</span></p><p><span>No drinks or cooler b
 oxes to be brought into the venue.</span></p><p><br></p>
LOCATION:De Grendel Wine Estate\, Plattekloof Road\, Panorama
SUMMARY:Some Sundays: Bok van Blerk\, Demi-Lee Moore\, Koos Kombuis
URL;VALUE=URI:https://somesundays.howler.co.za/degrendel22oct
END:VEVENT
END:VCALENDAR
